BEGIN:VCALENDAR
VERSION:2.0
PRODID:-//Dance Scottish Wellington - ECPv6.15.20//NONSGML v1.0//EN
CALSCALE:GREGORIAN
METHOD:PUBLISH
X-WR-CALNAME:Dance Scottish Wellington
X-ORIGINAL-URL:https://wellingtonscd.org.nz
X-WR-CALDESC:Events for Dance Scottish Wellington
REFRESH-INTERVAL;VALUE=DURATION:PT1H
X-Robots-Tag:noindex
X-PUBLISHED-TTL:PT1H
BEGIN:VTIMEZONE
TZID:Pacific/Auckland
BEGIN:STANDARD
TZOFFSETFROM:+1300
TZOFFSETTO:+1200
TZNAME:NZST
DTSTART:20250405T140000
END:STANDARD
BEGIN:DAYLIGHT
TZOFFSETFROM:+1200
TZOFFSETTO:+1300
TZNAME:NZDT
DTSTART:20250927T140000
END:DAYLIGHT
BEGIN:STANDARD
TZOFFSETFROM:+1300
TZOFFSETTO:+1200
TZNAME:NZST
DTSTART:20260404T140000
END:STANDARD
BEGIN:DAYLIGHT
TZOFFSETFROM:+1200
TZOFFSETTO:+1300
TZNAME:NZDT
DTSTART:20260926T140000
END:DAYLIGHT
BEGIN:STANDARD
TZOFFSETFROM:+1300
TZOFFSETTO:+1200
TZNAME:NZST
DTSTART:20270403T140000
END:STANDARD
BEGIN:DAYLIGHT
TZOFFSETFROM:+1200
TZOFFSETTO:+1300
TZNAME:NZDT
DTSTART:20270925T140000
END:DAYLIGHT
END:VTIMEZONE
BEGIN:VEVENT
DTSTART;TZID=Pacific/Auckland:20260427T193000
DTEND;TZID=Pacific/Auckland:20260427T220000
DTSTAMP:20260421T133437
CREATED:20260309T042351Z
LAST-MODIFIED:20260420T045530Z
UID:9323-1777318200-1777327200@wellingtonscd.org.nz
SUMMARY:Johnsonville Club Tartan Night - postponed to 27 April
DESCRIPTION:Our first Tartan Night of the year is designed to give new dancers the opportunity to dance to live music. Dancers in their first year are welcome to join us\, and try a night at a different club. Most dances will be walked. \nClick here for the programme and for instructions for the new dance Irish Breakfast Tea. \n 
URL:https://wellingtonscd.org.nz/event/johnsonville-club-tartan-night/
LOCATION:Khandallah Town Hall\, 11 Ganges Rd\, Khandallah\, New Zealand
END:VEVENT
END:VCALENDAR